BEGIN:VCALENDAR
VERSION:2.0
PRODID:-//Roanoke Valley Democratic Women - ECPv6.15.19//NONSGML v1.0//EN
CALSCALE:GREGORIAN
METHOD:PUBLISH
X-WR-CALNAME:Roanoke Valley Democratic Women
X-ORIGINAL-URL:https://roanokevalleydemocraticwomen.com
X-WR-CALDESC:Events for Roanoke Valley Democratic Women
REFRESH-INTERVAL;VALUE=DURATION:PT1H
X-Robots-Tag:noindex
X-PUBLISHED-TTL:PT1H
BEGIN:VTIMEZONE
TZID:America/New_York
BEGIN:DAYLIGHT
TZOFFSETFROM:-0500
TZOFFSETTO:-0400
TZNAME:EDT
DTSTART:20240310T070000
END:DAYLIGHT
BEGIN:STANDARD
TZOFFSETFROM:-0400
TZOFFSETTO:-0500
TZNAME:EST
DTSTART:20241103T060000
END:STANDARD
BEGIN:DAYLIGHT
TZOFFSETFROM:-0500
TZOFFSETTO:-0400
TZNAME:EDT
DTSTART:20250309T070000
END:DAYLIGHT
BEGIN:STANDARD
TZOFFSETFROM:-0400
TZOFFSETTO:-0500
TZNAME:EST
DTSTART:20251102T060000
END:STANDARD
BEGIN:DAYLIGHT
TZOFFSETFROM:-0500
TZOFFSETTO:-0400
TZNAME:EDT
DTSTART:20260308T070000
END:DAYLIGHT
BEGIN:STANDARD
TZOFFSETFROM:-0400
TZOFFSETTO:-0500
TZNAME:EST
DTSTART:20261101T060000
END:STANDARD
END:VTIMEZONE
BEGIN:VEVENT
DTSTART;TZID=America/New_York:20250425T120000
DTEND;TZID=America/New_York:20250425T130000
DTSTAMP:20260419T115531
CREATED:20250125T020156Z
LAST-MODIFIED:20250507T020840Z
UID:3573-1745582400-1745586000@roanokevalleydemocraticwomen.com
SUMMARY:Why States Matter: Sister District & VA in 2025
DESCRIPTION:(Read meeting follow up post: “It Starts with States”) \n\n\n\nWe’re excited to welcome Nicole Zambrano\, Senior Organizing Manager with Sister District Project as our guest speaker. Nicole will explain the importance of their state-level work\, particularly as it pertains to the VA House of Delegates elections in 2025. “There are a lot of good opportunities here\, both for building infrastructure for the midterms\, and for sending a powerful message all the way up to the top of the ticket.”  \n\n\n\n Read more about Sister District ProjectSister District 2025-2026 Map & Electoral Strategy Sister District 2024 Impact Report Sister District Upcoming & Featured Events \n\n\n\nWe look forward to seeing everyone at Bubba’s 33 at Valley View\, 4824 Valley View Ave NW. Our program begins at 12:00 noon followed by a brief business meeting. If ordering lunch\, please arrive between 11:15 and 11:45 to place your order. While an RSVP is not required\, we appreciate you taking time to help us get a head count for our meeting. \n\n\n\n\n\n\n\n\nRSVP\n\n\n\n\n\n\n\n\n\n\n\n\nAbout our speaker: Nicole Zambrano is a Senior Organizing Manager with Sister District Project\, where she co-leads the organization’s National Phonebank Program\, and works to elect crucial Democratic candidates to state legislatures in swing states across the country. \n\n\n\nA native of South Florida\, Nicole has a background in campaign politics\, where she cultivated a love for direct voter contact and field work. Prior to her work at Sister District\, she was a volunteer for Obama in 2008 and 2012\, a Fellow for Hillary Clinton’s 2016 campaign\, and an Organizer during the 2020 Presidential Election and the 2021 GA Runoffs. In the spring of 2021\, she relocated to Virginia\, where she was a Regional Organizing Director for the 2021 VA Gubernatorial Election\, in support of Terry McAuliffe and candidates for the VA House of Delegates. She has lived in Northern VA ever since\, and currently resides in Prince William County with her partner\, who is also a Political Organizer\, and their several pets.
URL:https://roanokevalleydemocraticwomen.com/meeting-event/rvdw-april-2025-meeting/
LOCATION:Bubba’s 33 at Valley View\, 4824 Valley View Ave NW\, Roanoke\, VA\, 24012\, United States
CATEGORIES:Meetings
ATTACH;FMTTYPE=image/png:https://roanokevalleydemocraticwomen.com/wp-content/uploads/2025/01/sisterdistrict-logo2-524x122-1.png
END:VEVENT
END:VCALENDAR