BEGIN:VCALENDAR
VERSION:2.0
PRODID:-//Roanoke Valley Democratic Women - ECPv6.15.19//NONSGML v1.0//EN
CALSCALE:GREGORIAN
METHOD:PUBLISH
X-WR-CALNAME:Roanoke Valley Democratic Women
X-ORIGINAL-URL:https://roanokevalleydemocraticwomen.com
X-WR-CALDESC:Events for Roanoke Valley Democratic Women
REFRESH-INTERVAL;VALUE=DURATION:PT1H
X-Robots-Tag:noindex
X-PUBLISHED-TTL:PT1H
BEGIN:VTIMEZONE
TZID:America/New_York
BEGIN:DAYLIGHT
TZOFFSETFROM:-0500
TZOFFSETTO:-0400
TZNAME:EDT
DTSTART:20240310T070000
END:DAYLIGHT
BEGIN:STANDARD
TZOFFSETFROM:-0400
TZOFFSETTO:-0500
TZNAME:EST
DTSTART:20241103T060000
END:STANDARD
BEGIN:DAYLIGHT
TZOFFSETFROM:-0500
TZOFFSETTO:-0400
TZNAME:EDT
DTSTART:20250309T070000
END:DAYLIGHT
BEGIN:STANDARD
TZOFFSETFROM:-0400
TZOFFSETTO:-0500
TZNAME:EST
DTSTART:20251102T060000
END:STANDARD
BEGIN:DAYLIGHT
TZOFFSETFROM:-0500
TZOFFSETTO:-0400
TZNAME:EDT
DTSTART:20260308T070000
END:DAYLIGHT
BEGIN:STANDARD
TZOFFSETFROM:-0400
TZOFFSETTO:-0500
TZNAME:EST
DTSTART:20261101T060000
END:STANDARD
END:VTIMEZONE
BEGIN:VEVENT
DTSTART;TZID=America/New_York:20250523T120000
DTEND;TZID=America/New_York:20250523T130000
DTSTAMP:20260419T150643
CREATED:20250125T020258Z
LAST-MODIFIED:20250623T141551Z
UID:3575-1748001600-1748005200@roanokevalleydemocraticwomen.com
SUMMARY:RVDW May 2025 Meeting
DESCRIPTION:(Post-meeting update: Takeaways & Resources: May Meeting Recap) \n\n\n\n“Proposed Changes to Medicaid: What They Mean for SWVA“ \n\n\n\n\n\n\n\nGuest speaker Donna Littlepage explores the up-to-date likely impact of Republican-proposed changes to Medicaid\, particularly on Virginia’s Medicaid expansion program. She’ll help us understand the potential for a significant negative impact on the valley and Southwest Virginia\, potentially leading to the loss of health insurance for hundreds of thousands of residents\, especially low-income families and children. Initially the proposed cuts appear to disproportionately affect rural areas and jeopardize access to essential health services and our rural hospitals. The Republican-controlled US House of Representatives aims to get their version of the Reconciliation Bill to the floor by May 19. GOP leaders want to send it to the president by July 4. \n\n\n\nJoin us at Montano’s\, located at 3733 Franklin Road SW. Our program begins at 12:00 noon followed by a brief business meeting. If ordering lunch\, please arrive between 11:15 and 11:45 to place your order. While an RSVP is not required\, we appreciate you taking time to help us get a headcount for our meeting. \n\n\n\n\nRSVP\n\n\n\n\nAbout Our Guest Speaker:\n\n\n\n\n\n\n\nDonna Littlepage\, RetiredFormer VP of Finance\, Carillion ClinicFormer SVP\, Population HealthFounding CFO\, VTC School of MedicineFormer CPA \n\n\n\nDonna Littlepage earned her undergraduate degree in Accounting and her MBA from Virginia Tech. During her 35-year career at Carilion Clinic she served in various finance roles\, including as Vice President of Finance\, overseeing hospitals\, physician services\, retail services\, insurance companies\, and administrative operations and a decade as Senior Vice President for Population Health\, working to expand access to care and improve health outcomes across our region. She was the founding Chief Financial Officer of the Virginia Tech Carilion School of Medicine\, helping to shape the future of medical education in our state. Donna retired in October 2024.
URL:https://roanokevalleydemocraticwomen.com/meeting-event/rvdw-may-2025-meeting/
LOCATION:Montano’s\, 3733 Franklin Rd SW\, Roanoke\, VA\, 24014\, United States
CATEGORIES:Meetings
ATTACH;FMTTYPE=image/png:https://roanokevalleydemocraticwomen.com/wp-content/uploads/2025/01/Meeting-Graphic-Medicaid-Changes.png
END:VEVENT
END:VCALENDAR