BEGIN:VCALENDAR
VERSION:2.0
PRODID:-//Roanoke Valley Democratic Women - ECPv6.15.19//NONSGML v1.0//EN
CALSCALE:GREGORIAN
METHOD:PUBLISH
X-WR-CALNAME:Roanoke Valley Democratic Women
X-ORIGINAL-URL:https://roanokevalleydemocraticwomen.com
X-WR-CALDESC:Events for Roanoke Valley Democratic Women
REFRESH-INTERVAL;VALUE=DURATION:PT1H
X-Robots-Tag:noindex
X-PUBLISHED-TTL:PT1H
BEGIN:VTIMEZONE
TZID:America/New_York
BEGIN:DAYLIGHT
TZOFFSETFROM:-0500
TZOFFSETTO:-0400
TZNAME:EDT
DTSTART:20210314T070000
END:DAYLIGHT
BEGIN:STANDARD
TZOFFSETFROM:-0400
TZOFFSETTO:-0500
TZNAME:EST
DTSTART:20211107T060000
END:STANDARD
BEGIN:DAYLIGHT
TZOFFSETFROM:-0500
TZOFFSETTO:-0400
TZNAME:EDT
DTSTART:20220313T070000
END:DAYLIGHT
BEGIN:STANDARD
TZOFFSETFROM:-0400
TZOFFSETTO:-0500
TZNAME:EST
DTSTART:20221106T060000
END:STANDARD
BEGIN:DAYLIGHT
TZOFFSETFROM:-0500
TZOFFSETTO:-0400
TZNAME:EDT
DTSTART:20230312T070000
END:DAYLIGHT
BEGIN:STANDARD
TZOFFSETFROM:-0400
TZOFFSETTO:-0500
TZNAME:EST
DTSTART:20231105T060000
END:STANDARD
BEGIN:DAYLIGHT
TZOFFSETFROM:-0500
TZOFFSETTO:-0400
TZNAME:EDT
DTSTART:20240310T070000
END:DAYLIGHT
BEGIN:STANDARD
TZOFFSETFROM:-0400
TZOFFSETTO:-0500
TZNAME:EST
DTSTART:20241103T060000
END:STANDARD
END:VTIMEZONE
BEGIN:VEVENT
DTSTART;TZID=America/New_York:20230127T120000
DTEND;TZID=America/New_York:20230127T130000
DTSTAMP:20260419T151645
CREATED:20230103T214316Z
LAST-MODIFIED:20230312T135323Z
UID:647-1674820800-1674824400@roanokevalleydemocraticwomen.com
SUMMARY:RVDW January 2023 Meeting
DESCRIPTION:The Board is pleased to announce that the January 27 meeting is via Zoom. The meeting begins at 12:00 noon and ends at 1:00pm. (Read January post-meeting update here.) \n\n\n\nAt this meeting\, we will install our new officers. Our speaker is special guest\, Attorney John Fishwick who will speak on the Campaign to Rename the Federal Building for Rueben Lawson. \n\n\n\nWe look forward to your participation. If you have any questions\, please let us know. \n\n\n\nOn behalf of the Board\, we appreciate your involvement and support. \n\n\n\nSincerely\, \n\n\n\nHelen B. Dean\, President \n\n\n\nRoanoke Valley Democratic Women \n\n\n\nEmail RVDemocraticWomen@gmail.com to request ZOOM link.
URL:https://roanokevalleydemocraticwomen.com/meeting-event/january-2023-meeting/
LOCATION:VA
CATEGORIES:Meetings
END:VEVENT
BEGIN:VEVENT
DTSTART;TZID=America/New_York:20220920T173000
DTEND;TZID=America/New_York:20220920T193000
DTSTAMP:20260419T151645
CREATED:20220829T200001Z
LAST-MODIFIED:20240207T163438Z
UID:651-1663695000-1663702200@roanokevalleydemocraticwomen.com
SUMMARY:An Evening with Sen. Louise Lucas
DESCRIPTION:Roanoke Country Club\, 3360 Old Country Club Drive\, NW \n\n\n\n(See event photos here.) \n\n\n\n\n\n\n\nA Fundraising Event for Roanoke Valley Democratic Women \n\n\n\nSenator Louise Lucas has been a member of the Senate since 1992. She is outspoken on abortion rights\, LBGTQ rights\, and legislative action to prevent gun violence – issues important to us all\, especially now! \n\n\n\nPlease join us for her remarks\, a glass of wine (plus a cash wine bar)\, and hors ‘oeuvres. Reserved tickets will be available at the reception desk theevening of the event. \n\n\n\nClick here for more information\, including ticket prices. \n\n\n\nSen. Lucas Event Photos:
URL:https://roanokevalleydemocraticwomen.com/meeting-event/an-evening-with-sen-louise-lucas/
LOCATION:VA
CATEGORIES:Events
END:VEVENT
END:VCALENDAR